BEGIN:VCALENDAR
VERSION:2.0
PRODID:-//Stick Yoga® - ECPv6.6.4.2//NONSGML v1.0//EN
CALSCALE:GREGORIAN
METHOD:PUBLISH
X-ORIGINAL-URL:https://stickyoga.com
X-WR-CALDESC:Events for Stick Yoga®
REFRESH-INTERVAL;VALUE=DURATION:PT1H
X-Robots-Tag:noindex
X-PUBLISHED-TTL:PT1H
BEGIN:VTIMEZONE
TZID:America/Los_Angeles
BEGIN:DAYLIGHT
TZOFFSETFROM:-0800
TZOFFSETTO:-0700
TZNAME:PDT
DTSTART:20260308T100000
END:DAYLIGHT
BEGIN:STANDARD
TZOFFSETFROM:-0700
TZOFFSETTO:-0800
TZNAME:PST
DTSTART:20261101T090000
END:STANDARD
END:VTIMEZONE
BEGIN:VEVENT
DTSTART;VALUE=DATE:20260627
DTEND;VALUE=DATE:20260629
DTSTAMP:20260421T053319
CREATED:20251222T224629Z
LAST-MODIFIED:20251222T224629Z
UID:1983-1782518400-1782691199@stickyoga.com
SUMMARY:Teacher Training Certification
DESCRIPTION:REGISTER NOW
URL:https://stickyoga.com/event/teacher-training-certification-4/
LOCATION:Mid-County Senior Center\, 829 Bay Avenue\, Capitola\, CA\, 95010\, United States
CATEGORIES:Teacher Trainings
END:VEVENT
BEGIN:VEVENT
DTSTART;VALUE=DATE:20260627
DTEND;VALUE=DATE:20260629
DTSTAMP:20260421T053319
CREATED:20251222T224803Z
LAST-MODIFIED:20251222T224803Z
UID:1985-1782518400-1782691199@stickyoga.com
SUMMARY:Teacher Training Certification\, Discounted for Seminar Attendance
DESCRIPTION:REGISTER NOW
URL:https://stickyoga.com/event/teacher-training-certification-discounted-for-seminar-attendance-4/
LOCATION:Mid-County Senior Center\, 829 Bay Avenue\, Capitola\, CA\, 95010\, United States
CATEGORIES:Teacher Trainings
END:VEVENT
BEGIN:VEVENT
DTSTART;VALUE=DATE:20260627
DTEND;VALUE=DATE:20260629
DTSTAMP:20260421T053319
CREATED:20251222T224956Z
LAST-MODIFIED:20251222T224956Z
UID:1987-1782518400-1782691199@stickyoga.com
SUMMARY:Teacher Training Certification\, Repeat Pricing
DESCRIPTION:REGISTER NOW
URL:https://stickyoga.com/event/teacher-training-certification-repeat-pricing-3/
LOCATION:Mid-County Senior Center\, 829 Bay Avenue\, Capitola\, CA\, 95010\, United States
CATEGORIES:Teacher Trainings
END:VEVENT
END:VCALENDAR